BEGIN:VCALENDAR
VERSION:2.0
PRODID:-//hacksw/handcal//NONSGML v1.0//EN
BEGIN:VEVENT
DTSTAMP:20260428T231000Z
DTSTART:20260428T231000Z
DTEND:20260429T011000Z

SUMMARY:Atlanta Gladiators - Kelly Cup Playoff Game 4
DESCRIPTION:The Atlanta Gladiators are an ECHL affiliate of the Nashville Predators.
END:VEVENT
END:VCALENDAR