BEGIN:VCALENDAR
VERSION:2.0
PRODID:-//hacksw/handcal//NONSGML v1.0//EN
BEGIN:VEVENT
DTSTAMP:20260530T140000Z
DTSTART:20260530T140000Z
DTEND:20260530T160000Z

SUMMARY:Atlanta Women's Expo 
DESCRIPTION:Enjoy hundreds of Boutique Pop Up Shops, Complimentary Beauty Treatments, the Hair Makeover Stage, Samples, Tastings, Celebrity Speakers, Fashion Shows and endless retail therapy. Spend a relaxing day being pampered with spa services, tastings, shopping, samples and empowering seminars. Plus, the Great Food Expo; it&#39;s 2 Great Events on 1 Amazing Weekend with the best in small batch artisanal food and beverages, sauces and spices, desserts and chocolates and more!For Tickets visit here. 
END:VEVENT
END:VCALENDAR