BEGIN:VCALENDAR
VERSION:2.0
PRODID:-//hacksw/handcal//NONSGML v1.0//EN
BEGIN:VEVENT
DTSTAMP:20260526T230000Z
DTSTART:20260526T230000Z
DTEND:20260527T010000Z

SUMMARY:Critical Role LIVE: Atlanta
DESCRIPTION:What began in 2012 as a bunch of friends playing RPGs in each other&#39;s living rooms has evolved into a multi-platform entertainment sensation. The show features seven popular voiceover actors diving into epic adventures, led by veteran game master Matthew Mercer.Costume, Prop, and Mask PolicyCostumes and masks may be allowed on an event-by-event basis. No real or functioning weapons are permitted. Any props or fake weapons must be presented at entry for inspection and approval. Approved prop weapons must be peace bonded by security. Masks/face coverings must be removed for screening. Please see the A to Z Guide for additional information. 
END:VEVENT
END:VCALENDAR