BEGIN:VCALENDAR
VERSION:2.0
PRODID:-//hacksw/handcal//NONSGML v1.0//EN
BEGIN:VEVENT
DTSTAMP:20260731T230000Z
DTSTART:20260731T230000Z
DTEND:20260801T020000Z

SUMMARY:Dude Perfect – Squad Games Tour 2026
DESCRIPTION:The Dude Perfect: Squad Games Tour is headed to 22 cities this summer! Bring YOUR squad and get ready to experience the Dudes like you’ve never seen them before. This brand new tour is filled with larger than life battles, unexpected twists and for the first time ever - the entire floor will be the battle zone with full 360° seating available! Get ready for a night of excitement, laughter, and competition. Pound it. Noggin. See ya on tour!
END:VEVENT
END:VCALENDAR