BEGIN:VCALENDAR
VERSION:2.0
PRODID:-//hacksw/handcal//NONSGML v1.0//EN
BEGIN:VEVENT
DTSTAMP:20260511T140000Z
DTSTART:20260511T140000Z
DTEND:20260511T160000Z

SUMMARY:Emory University Spring 2026 Graduation - Arena
DESCRIPTION:Gas South District will be performing bag checks at all graduations. Only clear bags not exceeding 12" x 12" x 6" will be allowed. No backpacks, balloons, large posters, glass or noisemakers will be allowed inside the venue. Cameras allowed. Graduates, please have parking pass displayed on dashboard upon entering our campus.Emory University Commencement: 10:00AM – 11:30AMEmory College of Arts & Sciences Diploma Ceremony: 11:30AM
END:VEVENT
END:VCALENDAR