BEGIN:VCALENDAR
VERSION:2.0
PRODID:-//hacksw/handcal//NONSGML v1.0//EN
BEGIN:VEVENT
DTSTAMP:20260517T233000Z
DTSTART:20260517T233000Z
DTEND:20260518T013000Z

SUMMARY:Forsyth County High School Graduations
DESCRIPTION:Gas South District will be performing bag checks at all graduations. Only clear bags not exceeding 12" x 12" x 6" will be allowed. No backpacks, balloons, large posters, glass or noisemakers will be allowed inside the venue. Cameras allowed. Graduates, please have parking pass displayed on dashboard upon entering our campus.Livestream Link: Coming soonSunday, May 17, 20268:30 AM - North Forsyth High School2:00 PM - Denmark High School7:30 PM - South Forsyth High SchoolMonday, May 18, 20267:00 PM - West Forsyth High SchoolTuesday, May 19, 20267:00 PM - Lambert High School
END:VEVENT
END:VCALENDAR