BEGIN:VCALENDAR
VERSION:2.0
PRODID:-//hacksw/handcal//NONSGML v1.0//EN
BEGIN:VEVENT
DTSTAMP:20260519T173000Z
DTSTART:20260519T173000Z
DTEND:20260519T193000Z

SUMMARY:Fulton County Schools 2026 Graduations
DESCRIPTION:Gas South District will be performing bag checks at all graduations. Only clear bags not exceeding 12" x 12" x 6" will be allowed. No backpacks, balloons, large posters, glass or noisemakers will be allowed inside the venue. Cameras allowed. Graduates, please have parking pass displayed on dashboard upon entering our campus.Livestream Link: Coming soon Thursday, May 14, 20267:30 PM - Johns CreekMonday, May 18, 20261:30PM - ChattahoocheeTuesday, May 19, 20268:00 AM - Centennial1:30 PM - Northview
END:VEVENT
END:VCALENDAR