BEGIN:VCALENDAR
VERSION:2.0
PRODID:-//hacksw/handcal//NONSGML v1.0//EN
BEGIN:VEVENT
DTSTAMP:20260425T233000Z
DTSTART:20260425T233000Z
DTEND:20260426T013000Z

SUMMARY:Georgia Swarm - NLL Playoffs
DESCRIPTION:2026 NLL PLAYOFFS QUARTERFINALS
END:VEVENT
END:VCALENDAR