BEGIN:VCALENDAR
VERSION:2.0
PRODID:-//hacksw/handcal//NONSGML v1.0//EN
BEGIN:VEVENT
DTSTAMP:20260521T000000Z
DTSTART:20260521T000000Z
DTEND:20260521T020000Z

SUMMARY:Gwinnett County High School Graduations - Arena  
DESCRIPTION:Gas South District will be performing bag checks at all graduations. Only clear bags not exceeding 12" x 12" x 6" will be allowed. No backpacks, balloons, large posters, glass or noisemakers will be allowed inside the venue. Cameras allowed. Graduates, please have parking pass displayed on dashboard upon entering our campus.Livestream Link: Coming soon Wednesday, May 20, 20263:00 PM - Archer8:00 PM - ShilohThursday, May 21, 20268:30 AM - Mountain View2:00 PM - Collins Hill7:30 PM - GraysonFriday, May 22, 20268:30 AM - Seckinger2:00 PM - Meadowcreek7:30 PM - DaculaSaturday, May 23, 20268:30 AM - North Gwinnett2:00 PM - Peachtree Ridge7:30 PM - BerkmarSunday, May 24, 20268:30 AM - South Gwinnett2:00 PM - Lanier7:00 PM - NorcrossMonday, May 25, 20268:30 AM - Duluth2:00 PM - Discovery
END:VEVENT
END:VCALENDAR