BEGIN:VCALENDAR
VERSION:2.0
PRODID:-//hacksw/handcal//NONSGML v1.0//EN
BEGIN:VEVENT
DTSTAMP:20260618T000000Z
DTSTART:20260618T000000Z
DTEND:20260618T020000Z

SUMMARY:Josh Groban with special guest Jennifer Hudson
DESCRIPTION:Tony®, EMMY®, and five-time GRAMMY® Award-nominated singer, songwriter, actor, and philanthropist Josh Groban possesses one of the most outstanding and instantly recognizable voices in music. Moreover, he continues to captivate fans everywhere as both a powerhouse vocalist and dynamic renaissance man. He has sold over 35 million albums worldwide, headlined legendary venues on multiple continents, and has also entertained audiences with acclaimed film and television appearances. His catalog spans a series of chart-topping blockbuster albums, including Josh Groban (5x-platinum), Closer (6x-platinum), Noël (7x-platinum), Awake (2x-platinum), Illuminations, All That Echoes, Stages (his first UK #1 album), Bridges, and his most recent release, Harmony. Along the way, he has packed arenas throughout North America, Europe, Australia, South Africa, New Zealand, and Asia.
END:VEVENT
END:VCALENDAR