BEGIN:VCALENDAR
VERSION:2.0
PRODID:-//hacksw/handcal//NONSGML v1.0//EN
BEGIN:VEVENT
DTSTAMP:20260530T123000Z
DTSTART:20260530T123000Z
DTEND:20260530T143000Z

SUMMARY:Life Surge Atlanta 2026
DESCRIPTION:A one-day life-changing event where thousands of local Christians gather to learn why and how to create and multiply financial resources for Kingdom impact.Join thousands of believers who are ready to honor God with their resources and live with eternal purpose.For more information, head to lifesurge.com/atlanta 
END:VEVENT
END:VCALENDAR