BEGIN:VCALENDAR
VERSION:2.0
PRODID:-//hacksw/handcal//NONSGML v1.0//EN
BEGIN:VEVENT
DTSTAMP:20260725T223000Z
DTSTART:20260725T223000Z
DTEND:20260726T013000Z

SUMMARY:CANCELED - Meghan Trainor: The Get In Girl Tour
DESCRIPTION:The Meghan Trainor concert scheduled on July 25 has been canceled. All tickets will be refunded to their orginal method of payment.In this new era, Meghan expertly dances between vulnerability and empowerment, encouraging fans to embrace themselves despite any challenges they may be facing. All the while, Meghan delivers undeniably infectious pop production and witty songwriting with more precision than ever. On the new music, Meghan shares, “‘Still Don’t Care’ really sets the tone for this whole Toy With Me era — it’s bold, fun, a little cheeky, and full of confidence. This song came from a place of growth for me; I’m learning to care less about perfection and more about what actually makes me happy. I&#39;m learning to shake off negativity, choosing joy, and living life my way — because at this point in my life and career, I’m ready to be done worrying about pleasing  everyone. ‘Still Don’t Care’ is my reminder to myself — and to anyone who’s ever felt judged. Toy With Me feels like the most honest and fearless I’ve ever been — it’s all about self-confidence, freedom, and learning how to meet people where they are at. I wanted to kick off this new chapter with a song that makes people feel unstoppable, and I can’t wait to bring that same energy to everyone on The Get In Girl Tour next summer.”
END:VEVENT
END:VCALENDAR