BEGIN:VCALENDAR
VERSION:2.0
PRODID:-//hacksw/handcal//NONSGML v1.0//EN
BEGIN:VEVENT
DTSTAMP:20260831T000000Z
DTSTART:20260831T000000Z
DTEND:20260831T020000Z

SUMMARY:Omar Courtz: Por Si Mañana No Estoy USA Tour
DESCRIPTION:Omar Courtz brings the Por Si Mañana No Estoy USA Tour to Gas South Arena on August 30!
END:VEVENT
END:VCALENDAR