BEGIN:VCALENDAR
VERSION:2.0
PRODID:-//hacksw/handcal//NONSGML v1.0//EN
BEGIN:VEVENT
DTSTAMP:20260517T000000Z
DTSTART:20260517T000000Z
DTEND:20260517T020000Z

SUMMARY:Palomazo Norteño "Clase Maestra Tour"
DESCRIPTION:Palomazo Norteño is an original concept that brings together Lalo Mora, Elíseo Robles, Rosendo Cantú and Raúl Hernández, four icons of northern music on the same stage. The artistic quartet offers the best of their greatest hits and has become the people’s favorite show, whom enjoy having these amazing musicians and pioneers of regional Mexican music in a great show. Currently Lalo Mora, Elíseo Robles, Rosendo Cantú and Raúl Hernández are touring the United States and Mexico with their “Clase Maestra” Tour 2026.
END:VEVENT
END:VCALENDAR