BEGIN:VCALENDAR
VERSION:2.0
PRODID:-//hacksw/handcal//NONSGML v1.0//EN
BEGIN:VEVENT
DTSTAMP:20260813T000000Z
DTSTART:20260813T000000Z
DTEND:20260813T030000Z

SUMMARY:Ricardo Montaner
DESCRIPTION:Ricardo Montaner es uno de los cantautores más reconocidos en todo el mundo de habla hispana. No importa cuán grande o difícil sea el lugar donde se presente, Montaner siempre lo hace con la misma actitud de agradecimiento primero a Dios, el autor y dador de su vida, y segundo a un público que lo ha seguido todos estos años. Por algo se suman en millones sus seguidores, no solo por su calidad de artista, sino también como persona.Los premios y reconocimientos son imparables en su carrera y hoy Montaner posee, entre cientos de premios, decenas de discos Multi platino, Platino y de Oro, por sus cuantiosas ventas de millones de álbumes; varias “Gaviota de Oro” y “Gaviota de Plata” del Festival de Viña del Mar en Chile, así como de la “Antorcha de Plata”, “la Antorcha de Oro” y “la Gaviota”.
END:VEVENT
END:VCALENDAR